BEGIN:VCALENDAR
VERSION:2.0
PRODID:-//Dazzling Tours - ECPv6.15.20//NONSGML v1.0//EN
CALSCALE:GREGORIAN
METHOD:PUBLISH
X-WR-CALNAME:Dazzling Tours
X-ORIGINAL-URL:https://dazzlingtours.livezencloud.com
X-WR-CALDESC:Events for Dazzling Tours
REFRESH-INTERVAL;VALUE=DURATION:PT1H
X-Robots-Tag:noindex
X-PUBLISHED-TTL:PT1H
BEGIN:VTIMEZONE
TZID:UTC
BEGIN:STANDARD
TZOFFSETFROM:+0000
TZOFFSETTO:+0000
TZNAME:UTC
DTSTART:20230101T000000
END:STANDARD
END:VTIMEZONE
BEGIN:VEVENT
DTSTART;TZID=UTC:20240911T080000
DTEND;TZID=UTC:20240911T170000
DTSTAMP:20260419T182034
CREATED:20230111T041119Z
LAST-MODIFIED:20240125T165717Z
UID:262-1726041600-1726074000@dazzlingtours.livezencloud.com
SUMMARY:Embarking on a Sri Lankan Safari: A Wildlife Adventure with Dazzling Tours
DESCRIPTION:Imagine traversing the lush landscapes of Sri Lanka\, where the call of the wild beckons and the thrill of adventure awaits. With Dazzling Tours\, your dream of an enchanting wildlife safari becomes a vivid reality. As you embark on this journey\, prepare to witness the majestic beauty of elephants and a tapestry of exotic wildlife that calls this paradise home. \nWhy Choose a Sri Lankan Safari with Dazzling Tours? \nUnmatched Wildlife Experiences \nA safari in Sri Lanka is unlike any other. It’s a place where nature’s diversity is celebrated in every corner. From the herds of majestic elephants at Minneriya National Park to the elusive leopards of Yala\, Sri Lanka offers a wildlife spectacle that is both rare and exhilarating. \nExpert Guided Tours \nAt Dazzling Tours\, our experienced guides are not just experts in navigating these terrains but are also well-versed in the habits and habitats of the local wildlife. They ensure that your safari experience is safe\, respectful to the environment\, and filled with awe-inspiring moments. \nPersonalized Itineraries \nUnderstanding that each traveler is unique\, we tailor your safari to match your interests and preferences. Whether it’s a focus on bird watching\, seeking out the big mammals\, or simply soaking in the diverse ecosystems\, your safari with us is personalized to your desires. \nThe Safari Experience\, A Day with Dazzling Tours \nEarly Morning Start \nAs the dawn breaks\, you’ll set out on an early morning game drive – the best time to see the wildlife as they are most active. The crisp morning air and the golden hues of the sunrise create a perfect backdrop for photography and wildlife observation. \nWildlife Spotting \nKeep your cameras ready as you might spot a variety of animals like elephants\, leopards\, sloth bears\, and an abundance of birdlife. Each turn in the park brings a new surprise\, a different animal basking in its natural habitat. \nCultural Insights \nIn addition to wildlife\, our guides provide insights into the local culture and stories of the land\, adding depth to your safari experience. \nSunset Views \nAs the day ends\, enjoy the stunning views of the sun setting over the Sri Lankan wilderness\, a fitting end to an exhilarating day. \nClient Testimonials \nHear from our satisfied adventurers who have experienced the magic of a Sri Lankan safari with Dazzling Tours. \n“] \nConclusion \nA safari with Dazzling Tours is more than just a wildlife expedition; it’s a journey into the heart of nature\, a chance to connect with the earth and its incredible inhabitants. Are you ready to embark on this adventure of a lifetime? \nBook Your Sri Lankan Safari Adventure Today! \n 
URL:https://dazzlingtours.livezencloud.com/event/a-wildlife-adventure-with-dazzling-tours/
LOCATION:NY
CATEGORIES:Seminars
ATTACH;FMTTYPE=image/png:https://dazzlingtours.livezencloud.com/wp-content/uploads/2023/01/Welcome-to-Dazzling-tours-23.png
ORGANIZER;CN="Gary Jones":MAILTO:events@example.com
END:VEVENT
BEGIN:VEVENT
DTSTART;TZID=UTC:20240911T080000
DTEND;TZID=UTC:20240911T170000
DTSTAMP:20260419T182034
CREATED:20230111T040942Z
LAST-MODIFIED:20230111T040942Z
UID:259-1726041600-1726074000@dazzlingtours.livezencloud.com
SUMMARY:Switzerland summit marks for adventure travel
DESCRIPTION:Sed ut perspiciatis unde omnis iste natus error sit voluptatem accusantium doloremque laudantium\, totam rem aperiam\, eaque ipsa quae ab illo. \nSed ut perspiciatis unde omnis iste natus error sit voluptatem accusantium doloremque laudantium\, totam rem aperiam\, eaque ipsa quae ab illo inventore veritatis et quasi architecto beatae vitae dicta sunt explicabo. Nemo enim ipsam voluptatem quia voluptas sit aspernatur aut odit aut fugit\, sed quia consequuntur magni dolores eos qui ratione voluptatem sequi nesciunt.
URL:https://dazzlingtours.livezencloud.com/event/switzerland-summit-marks-for-adventure-travel/
LOCATION:New York\, 8 King Street\, NY\, 101\, United States
CATEGORIES:Seminars
ATTACH;FMTTYPE=image/jpeg:https://dazzlingtours.livezencloud.com/wp-content/uploads/2023/01/event-2.jpg
ORGANIZER;CN="Gary Jones":MAILTO:events@example.com
END:VEVENT
BEGIN:VEVENT
DTSTART;TZID=UTC:20240908T080000
DTEND;TZID=UTC:20240908T170000
DTSTAMP:20260419T182034
CREATED:20230111T041159Z
LAST-MODIFIED:20230111T041159Z
UID:263-1725782400-1725814800@dazzlingtours.livezencloud.com
SUMMARY:Vancouver international travel expo
DESCRIPTION:Sed ut perspiciatis unde omnis iste natus error sit voluptatem accusantium doloremque laudantium\, totam rem aperiam\, eaque ipsa quae ab illo. \nSed ut perspiciatis unde omnis iste natus error sit voluptatem accusantium doloremque laudantium\, totam rem aperiam\, eaque ipsa quae ab illo inventore veritatis et quasi architecto beatae vitae dicta sunt explicabo. Nemo enim ipsam voluptatem quia voluptas sit aspernatur aut odit aut fugit\, sed quia consequuntur magni dolores eos qui ratione voluptatem sequi nesciunt.
URL:https://dazzlingtours.livezencloud.com/event/vancouver-international-travel-expo/
LOCATION:New York\, 8 King Street\, NY\, 101\, United States
CATEGORIES:Seminars
ATTACH;FMTTYPE=image/jpeg:https://dazzlingtours.livezencloud.com/wp-content/uploads/2023/01/event-6.jpg
ORGANIZER;CN="Gary Jones":MAILTO:events@example.com
END:VEVENT
BEGIN:VEVENT
DTSTART;TZID=UTC:20240811T080000
DTEND;TZID=UTC:20240811T170000
DTSTAMP:20260419T182034
CREATED:20230111T041044Z
LAST-MODIFIED:20230111T041044Z
UID:261-1723363200-1723395600@dazzlingtours.livezencloud.com
SUMMARY:Relationships at adventure travel world summit
DESCRIPTION:Sed ut perspiciatis unde omnis iste natus error sit voluptatem accusantium doloremque laudantium\, totam rem aperiam\, eaque ipsa quae ab illo. \nSed ut perspiciatis unde omnis iste natus error sit voluptatem accusantium doloremque laudantium\, totam rem aperiam\, eaque ipsa quae ab illo inventore veritatis et quasi architecto beatae vitae dicta sunt explicabo. Nemo enim ipsam voluptatem quia voluptas sit aspernatur aut odit aut fugit\, sed quia consequuntur magni dolores eos qui ratione voluptatem sequi nesciunt.
URL:https://dazzlingtours.livezencloud.com/event/relationships-at-adventure-travel-world-summit/
LOCATION:New York\, 8 King Street\, NY\, 101\, United States
CATEGORIES:Seminars
ATTACH;FMTTYPE=image/jpeg:https://dazzlingtours.livezencloud.com/wp-content/uploads/2023/01/event-4.jpg
ORGANIZER;CN="Gary Jones":MAILTO:events@example.com
END:VEVENT
BEGIN:VEVENT
DTSTART;TZID=UTC:20240509T080000
DTEND;TZID=UTC:20240509T170000
DTSTAMP:20260419T182034
CREATED:20230111T040750Z
LAST-MODIFIED:20230111T040750Z
UID:252-1715241600-1715274000@dazzlingtours.livezencloud.com
SUMMARY:An ideal destination for adventure elevate
DESCRIPTION:Sed ut perspiciatis unde omnis iste natus error sit voluptatem accusantium doloremque laudantium\, totam rem aperiam\, eaque ipsa quae ab illo. \nSed ut perspiciatis unde omnis iste natus error sit voluptatem accusantium doloremque laudantium\, totam rem aperiam\, eaque ipsa quae ab illo inventore veritatis et quasi architecto beatae vitae dicta sunt explicabo. Nemo enim ipsam voluptatem quia voluptas sit aspernatur aut odit aut fugit\, sed quia consequuntur magni dolores eos qui ratione voluptatem sequi nesciunt.
URL:https://dazzlingtours.livezencloud.com/event/an-ideal-destination-for-adventure-elevate/
LOCATION:New York\, 8 King Street\, NY\, 101\, United States
CATEGORIES:Seminars
ATTACH;FMTTYPE=image/jpeg:https://dazzlingtours.livezencloud.com/wp-content/uploads/2023/01/event-1.jpg
ORGANIZER;CN="Gary Jones":MAILTO:events@example.com
END:VEVENT
BEGIN:VEVENT
DTSTART;TZID=UTC:20240111T080000
DTEND;TZID=UTC:20240111T170000
DTSTAMP:20260419T182034
CREATED:20230111T041010Z
LAST-MODIFIED:20230111T041010Z
UID:260-1704960000-1704992400@dazzlingtours.livezencloud.com
SUMMARY:Adventures and connections make for networking
DESCRIPTION:Sed ut perspiciatis unde omnis iste natus error sit voluptatem accusantium doloremque laudantium\, totam rem aperiam\, eaque ipsa quae ab illo. \nSed ut perspiciatis unde omnis iste natus error sit voluptatem accusantium doloremque laudantium\, totam rem aperiam\, eaque ipsa quae ab illo inventore veritatis et quasi architecto beatae vitae dicta sunt explicabo. Nemo enim ipsam voluptatem quia voluptas sit aspernatur aut odit aut fugit\, sed quia consequuntur magni dolores eos qui ratione voluptatem sequi nesciunt.
URL:https://dazzlingtours.livezencloud.com/event/adventures-and-connections-make-for-networking/
LOCATION:New York\, 8 King Street\, NY\, 101\, United States
CATEGORIES:Seminars
ATTACH;FMTTYPE=image/jpeg:https://dazzlingtours.livezencloud.com/wp-content/uploads/2023/01/event-3.jpg
ORGANIZER;CN="Gary Jones":MAILTO:events@example.com
END:VEVENT
END:VCALENDAR